BEGIN:VCALENDAR
VERSION:2.0
PRODID:-//Contratero//ES
CALSCALE:GREGORIAN
METHOD:PUBLISH
BEGIN:VEVENT
UID:CONTR 2021/9310@contratero.es
DTSTAMP:20260423T184836Z
DTSTART:20210719T235959
DTEND:20210720T005959
SUMMARY:Cierre: Asistencia técnica a la producción estadística del
DESCRIPTION:Asistencia técnica a la producción estadística del Instituto de Estadística de las Islas Baleares con el objeto de disponer de nuevos indicadores para el seguimiento de la Agenda 2030.\\n\\nOrganismo: Instituto de Estadística de las Illes Balears\\n\\nVer en Contratero: https://contratero.es/contracts/CONTR 2021/9310
URL:https://contratero.es/contracts/CONTR 2021/9310
STATUS:CONFIRMED
BEGIN:VALARM
TRIGGER:-P1D
ACTION:DISPLAY
DESCRIPTION:Recordatorio: Asistencia técnica a la produc
END:VALARM
END:VEVENT
END:VCALENDAR